BEGIN:VCALENDAR
VERSION:2.0
PRODID:-//hacksw/handcal//NONSGML v1.0//EN
BEGIN:VEVENT
SUMMARY:rando annulee
UID:7d4297ba-cf9d-48cf-9eb3-d679d7497f43
DTSTART:20260322T083000Z
DTEND:20260322T230000Z
LOCATION:Localisation Parking des Encanaux 13007 Auriol
CATEGORIES:Sportif
STATUS:
DESCRIPTION:<h2>Difficulte: *** Difficile<br>
 Distance/Denivele:
 18kms / 900m<br>
 Points remarquables: Sources; Canyon;
 Panoramas<br>
 Distance AR et covoiturage: 110 kms/8€<br>
 Animateur:
 Olivier</h2>
URL;VALUE=URI:https://www.verdon-argens-randonnee.fr/evenements/2026/03/22/rando-annulee-2422858
END:VEVENT
END:VCALENDAR
