BEGIN:VCALENDAR
VERSION:2.0
PRODID:-//hacksw/handcal//NONSGML v1.0//EN
BEGIN:VEVENT
SUMMARY:Les hauteurs de Besse sur Issole
UID:14bcf00a-640c-4238-b944-2a2adf39ac77
DTSTART:20260408T120000Z
DTEND:20260408T220000Z
LOCATION:Localisation Centre sportif Besse  besse sur issole
CATEGORIES:Sportif
STATUS:
DESCRIPTION:<h2>Difficulte: Moyenne</h2>
 
 <h2>Distance:
 10kms</h2>
 
 <h2>Animateur: Jacques</h2>
 
 <h2>Distance covoiturage:
 46kms/3€</h2>
 
 <p> </p>
 
 <p> </p>
URL;VALUE=URI:https://www.verdon-argens-randonnee.fr/evenements/2026/04/08/les-hauteurs-de-besse-sur-issole-2422881
END:VEVENT
END:VCALENDAR
