BEGIN:VCALENDAR
VERSION:2.0
PRODID:-//hacksw/handcal//NONSGML v1.0//EN
BEGIN:VEVENT
SUMMARY:Les manjas de Perus Thorine
UID:04e1dc1f-6845-4cb4-8eb5-2be0f19b2b76
DTSTART:20260429T120000Z
DTEND:20260429T153000Z
LOCATION:Localisation Parking Place Louis Rainaud Thoronet  Thoronet
CATEGORIES:Sportif
STATUS:
DESCRIPTION:<h2><span style="font-size:22px;"><span
 style="font-family:Calibri, sans-serif;"><b>29 AVRIL  Les manjas de
 Perus</b></span></span></h2>
 
 <h2><span style="font-size:22px;"><span
 style="font-family:Calibri, sans-serif;">Marche Moyen     11.75
 km    3h</span></span></h2>
 
 <h2><span
 style="font-size:22px;"><span style="font-family:Calibri,
 sans-serif;">43.450931, 6.303289 ou 43°27'03.4"N
 6°18'11.8"E</span></span></h2>
 
 <h2><span
 style="font-size:22px;"><span style="font-family:Calibri,
 sans-serif;"> Le Thoronet  Parking Place Louis
 Rainaud.</span></span></h2>
 
 <h2><span style="font-size:22px;"><span
 style="font-family:Calibri, sans-serif;">26Km A/R
 2€</span></span></h2>
 
 <h2><span style="font-size:22px;"><span
 style="font-family:Calibri, sans-serif;">Une boucle sur les hauteurs
 du Thoronet vous menant entre vignes, oliviers et hameaux jusqu'aux
 rives du fleuve l'Argens ou vous pourrez faire une halte dans la
 fraicheur. Le nom de l'itineraire est connu sous le terme de "Manjas
 de Perus" se traduisant en mangeurs de poires sauvages lies a la
 pauvrete des hameaux isoles.</span></span></h2>
 
 <h2><span
 style="font-size:22px;">Animateur: Philippe</span></h2>
URL;VALUE=URI:https://www.verdon-argens-randonnee.fr/evenements/2026/04/29/les-manjas-de-perus-thorine-2422884
END:VEVENT
END:VCALENDAR
