BEGIN:VCALENDAR
VERSION:2.0
PRODID:-//hacksw/handcal//NONSGML v1.0//EN
BEGIN:VEVENT
SUMMARY:Chapelle Saint-Vincent
UID:655812a1-af13-491d-a5db-776e3c13f6b0
DTSTART:20260515T120000Z
DTEND:20260515T220000Z
LOCATION:Localisation 1179 Chem. de Tasseau  carces
CATEGORIES:Sportif
STATUS:
DESCRIPTION:<h2>Difficulte: Facile<br>
 Distance/Denivele: 7
 kms<br>
 Distance AR et covoiturage:<br>
 Animateur: Stephanie</h2>
URL;VALUE=URI:https://www.verdon-argens-randonnee.fr/evenements/2026/05/15/chapelle-saint-vincent-2422900
END:VEVENT
END:VCALENDAR
