BEGIN:VCALENDAR
VERSION:2.0
PRODID:-//hacksw/handcal//NONSGML v1.0//EN
BEGIN:VEVENT
SUMMARY:Chapelle Saint Vincent Carces
UID:958433a6-094f-4016-a1fd-77d2128aa2f6
DTSTART:20260520T113000Z
DTEND:20260520T114500Z
LOCATION:Localisation   
CATEGORIES:Sportif
STATUS:
DESCRIPTION:<h2><span style="font-size:20px;">7Kms Beau point de vue
 1 euro</span></h2>
 
 <p><span style="font-size:20px;">Lieu de rendez
 vous Parking du pas de Santan. Animatrice Stephanie 06 70 02 83
 84</span></p>
URL;VALUE=URI:https://www.verdon-argens-randonnee.fr/evenements/2026/05/20/chapelle-saint-vincent-carces-2439158
END:VEVENT
END:VCALENDAR
